BEGIN:VCALENDAR
VERSION:2.0
PRODID:-//ALTIUR FORMACIÓN - ECPv6.15.16//NONSGML v1.0//EN
CALSCALE:GREGORIAN
METHOD:PUBLISH
X-WR-CALNAME:ALTIUR FORMACIÓN
X-ORIGINAL-URL:https://www.altiur.com
X-WR-CALDESC:Eventos para ALTIUR FORMACIÓN
REFRESH-INTERVAL;VALUE=DURATION:PT1H
X-Robots-Tag:noindex
X-PUBLISHED-TTL:PT1H
BEGIN:VTIMEZONE
TZID:Europe/Paris
BEGIN:DAYLIGHT
TZOFFSETFROM:+0100
TZOFFSETTO:+0200
TZNAME:CEST
DTSTART:20250330T010000
END:DAYLIGHT
BEGIN:STANDARD
TZOFFSETFROM:+0200
TZOFFSETTO:+0100
TZNAME:CET
DTSTART:20251026T010000
END:STANDARD
BEGIN:DAYLIGHT
TZOFFSETFROM:+0100
TZOFFSETTO:+0200
TZNAME:CEST
DTSTART:20260329T010000
END:DAYLIGHT
BEGIN:STANDARD
TZOFFSETFROM:+0200
TZOFFSETTO:+0100
TZNAME:CET
DTSTART:20261025T010000
END:STANDARD
BEGIN:DAYLIGHT
TZOFFSETFROM:+0100
TZOFFSETTO:+0200
TZNAME:CEST
DTSTART:20270328T010000
END:DAYLIGHT
BEGIN:STANDARD
TZOFFSETFROM:+0200
TZOFFSETTO:+0100
TZNAME:CET
DTSTART:20271031T010000
END:STANDARD
END:VTIMEZONE
BEGIN:VEVENT
DTSTART;TZID=Europe/Paris:20260204T080000
DTEND;TZID=Europe/Paris:20260205T160000
DTSTAMP:20260424T194309
CREATED:20260216T095405Z
LAST-MODIFIED:20260216T095405Z
UID:18031-1770192000-1770307200@www.altiur.com
SUMMARY:TELCO I Trabajos en Altura
DESCRIPTION:El certificado TELCO I TRABAJOS EN ALTURA posee como finalidad conocer los riesgos y las medidas preventivas de los trabajos en altura\, así como los procedimientos de trabajo y el uso de los EPI’s. El curso TELCO I Trabajos en Altura es una formación certificada que capacita a los trabajadores del sector de las telecomunicaciones para realizar tareas en altura de manera segura y conforme a la normativa vigente. Este estándar formativo fue establecido por las principales operadoras y empresas colaboradoras del sector y es obligatorio desde el 1 de julio de 2021. Está dirigido a cualquier trabajador del sector de las Telecomunicaciones que desarrolle tareas a alturas superiores a 2 m de altura en escaleras manuales\, escalas fijas\, andamios\, postes de madera\, postes de hormigón y cubiertas con protección.
URL:https://www.altiur.com/agenda/telco-i-trabajos-en-altura/
LOCATION:Valladolid
CATEGORIES:TELCO
ATTACH;FMTTYPE=image/jpeg:https://www.altiur.com/wp-content/uploads/2025/11/no2yQOtg.jpg
END:VEVENT
BEGIN:VEVENT
DTSTART;TZID=Europe/Paris:20260204T080000
DTEND;TZID=Europe/Paris:20260206T160000
DTSTAMP:20260424T194309
CREATED:20260216T094557Z
LAST-MODIFIED:20260216T094557Z
UID:18029-1770192000-1770393600@www.altiur.com
SUMMARY:Curso GWO BSTR completo
DESCRIPTION:El BSTR (Basic Safety Training Refresher) de GWO (Global Wind Organisation) es el curso de reciclaje obligatorio para profesionales del sector eólico que ya han completado el BST (Basic Safety Training) y necesitan renovar sus certificaciones. \nEste curso permite actualizar conocimientos y habilidades esenciales para seguir trabajando de forma segura en parques eólicos\, tanto onshore como offshore. La formación garantiza el cumplimiento de los estándares internacionales de seguridad establecidos por la GWO. \nEl BSTR incluye los siguientes módulos: \nTrabajo en Altura – Refresher\nManipulación de Cargas – Refresher\nPrimeros Auxilios – Refresher\nExtinción de Incendios – Refresher
URL:https://www.altiur.com/agenda/curso-gwo-bstr-completo-2/
LOCATION:Valladolid
CATEGORIES:GWO BSTR
ATTACH;FMTTYPE=image/jpeg:https://www.altiur.com/wp-content/uploads/2025/08/altiur-valladolid-dos-0012-copia-scaled.jpg
END:VEVENT
END:VCALENDAR