BEGIN:VCALENDAR
VERSION:2.0
PRODID:-//ALTIUR FORMACIÓN - ECPv6.15.16//NONSGML v1.0//EN
CALSCALE:GREGORIAN
METHOD:PUBLISH
X-WR-CALNAME:ALTIUR FORMACIÓN
X-ORIGINAL-URL:https://www.altiur.com
X-WR-CALDESC:Eventos para ALTIUR FORMACIÓN
REFRESH-INTERVAL;VALUE=DURATION:PT1H
X-Robots-Tag:noindex
X-PUBLISHED-TTL:PT1H
BEGIN:VTIMEZONE
TZID:Europe/Paris
BEGIN:DAYLIGHT
TZOFFSETFROM:+0100
TZOFFSETTO:+0200
TZNAME:CEST
DTSTART:20250330T010000
END:DAYLIGHT
BEGIN:STANDARD
TZOFFSETFROM:+0200
TZOFFSETTO:+0100
TZNAME:CET
DTSTART:20251026T010000
END:STANDARD
BEGIN:DAYLIGHT
TZOFFSETFROM:+0100
TZOFFSETTO:+0200
TZNAME:CEST
DTSTART:20260329T010000
END:DAYLIGHT
BEGIN:STANDARD
TZOFFSETFROM:+0200
TZOFFSETTO:+0100
TZNAME:CET
DTSTART:20261025T010000
END:STANDARD
BEGIN:DAYLIGHT
TZOFFSETFROM:+0100
TZOFFSETTO:+0200
TZNAME:CEST
DTSTART:20270328T010000
END:DAYLIGHT
BEGIN:STANDARD
TZOFFSETFROM:+0200
TZOFFSETTO:+0100
TZNAME:CET
DTSTART:20271031T010000
END:STANDARD
END:VTIMEZONE
BEGIN:VEVENT
DTSTART;TZID=Europe/Paris:20260216T080000
DTEND;TZID=Europe/Paris:20260220T160000
DTSTAMP:20260424T194339
CREATED:20260212T131811Z
LAST-MODIFIED:20260212T131811Z
UID:18013-1771228800-1771603200@www.altiur.com
SUMMARY:Curso Trabajos en Altura
DESCRIPTION:El curso de Trabajos en Altura – Prevención y Seguridad Laboral tiene como objetivo proporcionar a los participantes los conocimientos teóricos y prácticos necesarios para realizar tareas en altura de forma segura\, cumpliendo con la legislación vigente en prevención de riesgos laborales. \nDurante la formación\, los alumnos aprenderán a identificar los riesgos asociados\, utilizar correctamente los Equipos de Protección Individual (EPI)\, aplicar técnicas seguras de trabajo en estructuras elevadas y actuar ante situaciones de emergencia o rescate. \nDirigido a:\nProfesionales de cualquier sector cuya actividad implique la realización de trabajos en altura: construcción\, industria\, mantenimiento\, telecomunicaciones\, energías renovables\, entre otros. \nContenido principal: \nNormativa de referencia y obligaciones legales\nEvaluación de riesgos en altura\nTipos y uso de sistemas anticaídas\nColocación y uso correcto de arneses\nProcedimientos de emergencia y rescate básico \n🧑‍🏫 Formación práctica impartida por instructores acreditados.\n🔐 Plazas limitadas. Reserva ya la tuya.\n📞 Más información e inscripciones en www.altiurformacion.com o contacta con nosotros.
URL:https://www.altiur.com/agenda/curso-trabajos-en-altura-8/
LOCATION:Valladolid
ATTACH;FMTTYPE=image/jpeg:https://www.altiur.com/wp-content/uploads/2024/03/telco-III-altiur-formacion-e1711450949609.jpeg
END:VEVENT
END:VCALENDAR