BEGIN:VCALENDAR
VERSION:2.0
PRODID:-//ALTIUR FORMACIÓN - ECPv6.15.16//NONSGML v1.0//EN
CALSCALE:GREGORIAN
METHOD:PUBLISH
X-WR-CALNAME:ALTIUR FORMACIÓN
X-ORIGINAL-URL:https://www.altiur.com
X-WR-CALDESC:Eventos para ALTIUR FORMACIÓN
REFRESH-INTERVAL;VALUE=DURATION:PT1H
X-Robots-Tag:noindex
X-PUBLISHED-TTL:PT1H
BEGIN:VTIMEZONE
TZID:Europe/Paris
BEGIN:DAYLIGHT
TZOFFSETFROM:+0100
TZOFFSETTO:+0200
TZNAME:CEST
DTSTART:20250330T010000
END:DAYLIGHT
BEGIN:STANDARD
TZOFFSETFROM:+0200
TZOFFSETTO:+0100
TZNAME:CET
DTSTART:20251026T010000
END:STANDARD
BEGIN:DAYLIGHT
TZOFFSETFROM:+0100
TZOFFSETTO:+0200
TZNAME:CEST
DTSTART:20260329T010000
END:DAYLIGHT
BEGIN:STANDARD
TZOFFSETFROM:+0200
TZOFFSETTO:+0100
TZNAME:CET
DTSTART:20261025T010000
END:STANDARD
BEGIN:DAYLIGHT
TZOFFSETFROM:+0100
TZOFFSETTO:+0200
TZNAME:CEST
DTSTART:20270328T010000
END:DAYLIGHT
BEGIN:STANDARD
TZOFFSETFROM:+0200
TZOFFSETTO:+0100
TZNAME:CET
DTSTART:20271031T010000
END:STANDARD
END:VTIMEZONE
BEGIN:VEVENT
DTSTART;TZID=Europe/Paris:20260303T080000
DTEND;TZID=Europe/Paris:20260305T160000
DTSTAMP:20260424T180049
CREATED:20260219T102827Z
LAST-MODIFIED:20260219T102827Z
UID:18058-1772524800-1772726400@www.altiur.com
SUMMARY:Curso GWO ART (Rescate Avanzado) en Altiur Formación
DESCRIPTION:Curso GWO Rescate Avanzado – Formación en Seguridad para Trabajo en Altura en Aerogeneradores\nEn Altiur Formación te ofrecemos el curso GWO Rescate Avanzado\, diseñado para capacitar a los profesionales del sector eólico en la ejecución segura de trabajos en altura y situaciones de rescate en aerogeneradores\, conforme a los estándares internacionales establecidos por la Global Wind Organisation (GWO). \n¿Cuál es el objetivo del curso?\nEl curso tiene como finalidad proporcionar los conocimientos y habilidades necesarias para actuar con seguridad durante tareas de rescate y evacuación en altura dentro de un aerogenerador. La formación se enfoca en el uso adecuado del equipo de protección personal (EPP) y en la correcta aplicación de procedimientos de rescate. \n¿Qué aprenderás en el curso GWO Rescate Avanzado?\nAl finalizar la formación\, el alumno será capaz de: \nReconocer los riesgos y peligros del trabajo en altura específicos de aerogeneradores.\nComprender la legislación nacional vigente en materia de trabajos en altura.\nIdentificar y utilizar correctamente los Equipos de Protección Personal\, así como los marcadores estándar europeos y globales.\nRealizar inspecciones seguras y eficientes del EPP y su montaje adecuado.\nUsar correctamente los dispositivos de evacuación y rescate.\nPlanificar y ejecutar maniobras de rescate en diferentes escenarios dentro del aerogenerador utilizando el equipo de rescate apropiado. \n¿A quién va dirigido?\nEste curso está dirigido a técnicos eólicos\, profesionales del mantenimiento y cualquier persona que trabaje en torres eólicas o estructuras en altura\, y que necesite formación especializada en rescate avanzado en entornos de aerogeneradores. \nFormación práctica\, instructores acreditados\nEn Altiur Formación garantizamos una formación práctica\, actualizada y con instructores certificados por GWO\, en instalaciones preparadas para simular condiciones reales del trabajo en el sector eólico.
URL:https://www.altiur.com/agenda/curso-gwo-art-rescate-avanzado-en-altiur-formacion-2/
LOCATION:Valladolid
CATEGORIES:GWO ART
ATTACH;FMTTYPE=image/jpeg:https://www.altiur.com/wp-content/uploads/2024/02/altiur-valladolid-0119-scaled.jpeg
END:VEVENT
BEGIN:VEVENT
DTSTART;TZID=Europe/Paris:20260304T080000
DTEND;TZID=Europe/Paris:20260305T160000
DTSTAMP:20260424T180049
CREATED:20260219T102140Z
LAST-MODIFIED:20260219T102140Z
UID:18056-1772611200-1772726400@www.altiur.com
SUMMARY:TELCO II Trabajos en Altura
DESCRIPTION:El curso TELCO II Trabajos en Altura está diseñado para capacitar a profesionales del sector de las telecomunicaciones que desarrollan su actividad en entornos con riesgo de caída. La formación proporciona los conocimientos necesarios para identificar riesgos\, aplicar medidas preventivas y ejecutar trabajos en altura de forma segura y conforme al estándar TELCO vigente. \nDurante el curso se abordan los procedimientos de trabajo seguro\, el uso adecuado de los equipos de protección individual (EPIs)\, los sistemas de protección anticaídas\, dispositivos de anclaje\, técnicas de izado manual de cargas y protocolos de actuación ante situaciones de emergencia o accidente. \nDirigido a trabajadores que realizan tareas en torres de antena\, mástiles y cubiertas sin protección. \n🕒 Duración: 16 horas (reciclaje: 7 horas)\n📅 Validez del certificado: 3 años
URL:https://www.altiur.com/agenda/telco-ii-trabajos-en-altura-2/
LOCATION:Valladolid
ATTACH;FMTTYPE=image/jpeg:https://www.altiur.com/wp-content/uploads/2024/02/altiur-valladolid-telco-1-alturas-scaled.jpeg
END:VEVENT
END:VCALENDAR