BEGIN:VCALENDAR
VERSION:2.0
PRODID:-//ALTIUR FORMACIÓN - ECPv6.15.16//NONSGML v1.0//EN
CALSCALE:GREGORIAN
METHOD:PUBLISH
X-WR-CALNAME:ALTIUR FORMACIÓN
X-ORIGINAL-URL:https://www.altiur.com
X-WR-CALDESC:Eventos para ALTIUR FORMACIÓN
REFRESH-INTERVAL;VALUE=DURATION:PT1H
X-Robots-Tag:noindex
X-PUBLISHED-TTL:PT1H
BEGIN:VTIMEZONE
TZID:Europe/Paris
BEGIN:DAYLIGHT
TZOFFSETFROM:+0100
TZOFFSETTO:+0200
TZNAME:CEST
DTSTART:20250330T010000
END:DAYLIGHT
BEGIN:STANDARD
TZOFFSETFROM:+0200
TZOFFSETTO:+0100
TZNAME:CET
DTSTART:20251026T010000
END:STANDARD
BEGIN:DAYLIGHT
TZOFFSETFROM:+0100
TZOFFSETTO:+0200
TZNAME:CEST
DTSTART:20260329T010000
END:DAYLIGHT
BEGIN:STANDARD
TZOFFSETFROM:+0200
TZOFFSETTO:+0100
TZNAME:CET
DTSTART:20261025T010000
END:STANDARD
BEGIN:DAYLIGHT
TZOFFSETFROM:+0100
TZOFFSETTO:+0200
TZNAME:CEST
DTSTART:20270328T010000
END:DAYLIGHT
BEGIN:STANDARD
TZOFFSETFROM:+0200
TZOFFSETTO:+0100
TZNAME:CET
DTSTART:20271031T010000
END:STANDARD
END:VTIMEZONE
BEGIN:VEVENT
DTSTART;TZID=Europe/Paris:20260323T080000
DTEND;TZID=Europe/Paris:20260323T160000
DTSTAMP:20260424T180218
CREATED:20260318T172240Z
LAST-MODIFIED:20260318T172240Z
UID:18130-1774252800-1774281600@www.altiur.com
SUMMARY:Curso Trabajos en Altura
DESCRIPTION:El curso de Trabajos en Altura – Prevención y Seguridad Laboral tiene como objetivo proporcionar a los participantes los conocimientos teóricos y prácticos necesarios para realizar tareas en altura de forma segura\, cumpliendo con la legislación vigente en prevención de riesgos laborales. \nDurante la formación\, los alumnos aprenderán a identificar los riesgos asociados\, utilizar correctamente los Equipos de Protección Individual (EPI)\, aplicar técnicas seguras de trabajo en estructuras elevadas y actuar ante situaciones de emergencia o rescate. \nDirigido a:\nProfesionales de cualquier sector cuya actividad implique la realización de trabajos en altura: construcción\, industria\, mantenimiento\, telecomunicaciones\, energías renovables\, entre otros. \nContenido principal: \nNormativa de referencia y obligaciones legales\nEvaluación de riesgos en altura\nTipos y uso de sistemas anticaídas\nColocación y uso correcto de arneses\nProcedimientos de emergencia y rescate básico \n🧑‍🏫 Formación práctica impartida por instructores acreditados.\n🔐 Plazas limitadas. Reserva ya la tuya.\n📞 Más información e inscripciones en www.altiurformacion.com o contacta con nosotros.
URL:https://www.altiur.com/agenda/curso-trabajos-en-altura-10/
LOCATION:Valladolid
CATEGORIES:TRABAJOS EN ALTURA
ATTACH;FMTTYPE=image/jpeg:https://www.altiur.com/wp-content/uploads/2024/02/altiur-valladolid-0062-scaled.jpeg
END:VEVENT
BEGIN:VEVENT
DTSTART;TZID=Europe/Paris:20260323T080000
DTEND;TZID=Europe/Paris:20260323T160000
DTSTAMP:20260424T180218
CREATED:20260318T172558Z
LAST-MODIFIED:20260318T172558Z
UID:18132-1774252800-1774281600@www.altiur.com
SUMMARY:Curso Trabajos en Altura
DESCRIPTION:El curso de Trabajos en Altura – Prevención y Seguridad Laboral tiene como objetivo proporcionar a los participantes los conocimientos teóricos y prácticos necesarios para realizar tareas en altura de forma segura\, cumpliendo con la legislación vigente en prevención de riesgos laborales. \nDurante la formación\, los alumnos aprenderán a identificar los riesgos asociados\, utilizar correctamente los Equipos de Protección Individual (EPI)\, aplicar técnicas seguras de trabajo en estructuras elevadas y actuar ante situaciones de emergencia o rescate. \nDirigido a:\nProfesionales de cualquier sector cuya actividad implique la realización de trabajos en altura: construcción\, industria\, mantenimiento\, telecomunicaciones\, energías renovables\, entre otros. \nContenido principal: \nNormativa de referencia y obligaciones legales\nEvaluación de riesgos en altura\nTipos y uso de sistemas anticaídas\nColocación y uso correcto de arneses\nProcedimientos de emergencia y rescate básico \n🧑‍🏫 Formación práctica impartida por instructores acreditados.\n🔐 Plazas limitadas. Reserva ya la tuya.\n📞 Más información e inscripciones en www.altiurformacion.com o contacta con nosotros.
URL:https://www.altiur.com/agenda/curso-trabajos-en-altura-11/
LOCATION:Zaragoza
CATEGORIES:TRABAJOS EN ALTURA
ATTACH;FMTTYPE=image/jpeg:https://www.altiur.com/wp-content/uploads/2025/07/altiur-valladolid-0065-scaled.jpg
END:VEVENT
BEGIN:VEVENT
DTSTART;TZID=Europe/Paris:20260323T080000
DTEND;TZID=Europe/Paris:20260323T160000
DTSTAMP:20260424T180218
CREATED:20260323T114330Z
LAST-MODIFIED:20260323T114330Z
UID:18140-1774252800-1774281600@www.altiur.com
SUMMARY:Curso AELEC de Riesgo Eléctrico B1 y b2
DESCRIPTION:Curso AELEC de Riesgo Eléctrico B1 y B2 \nEn Altiur Formación impartimos estos cursos dirigidas a trabajadores que realizan actividades no eléctricas en entornos con presencia de instalaciones de Baja\, Media o Alta Tensión. \nLos cursos B1 (5 horas) y B2 (8 horas) están diseñados para proporcionar los conocimientos necesarios para identificar riesgos\, aplicar medidas preventivas y trabajar de forma segura conforme al RD 614/2001\, incluyendo la aplicación correcta de las Cinco Reglas de Oro. \nEl Curso B1 AELEC ofrece una formación esencial para trabajos en instalaciones de Baja Tensión\, mientras que el Curso B2 AELEC profundiza además en elementos\, riesgos y procedimientos propios de Media y Alta Tensión\, incorporando prácticas demostrativas. \nAmbos programas están orientados a reforzar la conciencia del riesgo eléctrico y garantizar que los trabajadores puedan desempeñar su labor en condiciones óptimas de seguridad. \nYa puedes consultar toda la información\, descargar el programa en PDF y conocer la opinión de nuestros alumnos en nuestra web Altiur Formación.
URL:https://www.altiur.com/agenda/curso-aelec-de-riesgo-electrico-b1-y-b2-5/
LOCATION:Valladolid
CATEGORIES:AELEC
ATTACH;FMTTYPE=image/jpeg:https://www.altiur.com/wp-content/uploads/2025/09/altiur-valladolid-dos-0143-copia-scaled.jpg
END:VEVENT
BEGIN:VEVENT
DTSTART;TZID=Europe/Paris:20260323T080000
DTEND;TZID=Europe/Paris:20260323T160000
DTSTAMP:20260424T180218
CREATED:20260323T114811Z
LAST-MODIFIED:20260323T114855Z
UID:18142-1774252800-1774281600@www.altiur.com
SUMMARY:Curso AELEC de Riesgo Eléctrico B1 y B2
DESCRIPTION:Curso AELEC de Riesgo Eléctrico B1 y B2 \nEn Altiur Formación impartimos estos cursos dirigidas a trabajadores que realizan actividades no eléctricas en entornos con presencia de instalaciones de Baja\, Media o Alta Tensión. \nLos cursos B1 (5 horas) y B2 (8 horas) están diseñados para proporcionar los conocimientos necesarios para identificar riesgos\, aplicar medidas preventivas y trabajar de forma segura conforme al RD 614/2001\, incluyendo la aplicación correcta de las Cinco Reglas de Oro. \nEl Curso B1 AELEC ofrece una formación esencial para trabajos en instalaciones de Baja Tensión\, mientras que el Curso B2 AELEC profundiza además en elementos\, riesgos y procedimientos propios de Media y Alta Tensión\, incorporando prácticas demostrativas. \nAmbos programas están orientados a reforzar la conciencia del riesgo eléctrico y garantizar que los trabajadores puedan desempeñar su labor en condiciones óptimas de seguridad. \nYa puedes consultar toda la información\, descargar el programa en PDF y conocer la opinión de nuestros alumnos en nuestra web Altiur Formación.
URL:https://www.altiur.com/agenda/curso-aelec-de-riesgo-electrico-b1-y-b2-6/
LOCATION:Zaragoza
CATEGORIES:AELEC
ATTACH;FMTTYPE=image/jpeg:https://www.altiur.com/wp-content/uploads/2025/09/altiur-valladolid-dos-0144-copia-scaled.jpg
END:VEVENT
BEGIN:VEVENT
DTSTART;TZID=Europe/Paris:20260323T080000
DTEND;TZID=Europe/Paris:20260326T160000
DTSTAMP:20260424T180218
CREATED:20260318T172943Z
LAST-MODIFIED:20260325T100901Z
UID:18134-1774252800-1774540800@www.altiur.com
SUMMARY:Curso GWO BSTR completo
DESCRIPTION:El BSTR (Basic Safety Training Refresher) de GWO (Global Wind Organisation) es el curso de reciclaje obligatorio para profesionales del sector eólico que ya han completado el BST (Basic Safety Training) y necesitan renovar sus certificaciones. \nEste curso permite actualizar conocimientos y habilidades esenciales para seguir trabajando de forma segura en parques eólicos\, tanto onshore como offshore. La formación garantiza el cumplimiento de los estándares internacionales de seguridad establecidos por la GWO. \nEl BSTR incluye los siguientes módulos: \nTrabajo en Altura – Refresher\nManipulación de Cargas – Refresher\nPrimeros Auxilios – Refresher\nExtinción de Incendios – Refresher
URL:https://www.altiur.com/agenda/curso-gwo-bstr-completo-5/
LOCATION:Zaragoza
CATEGORIES:GWO BSTR
ATTACH;FMTTYPE=image/jpeg:https://www.altiur.com/wp-content/uploads/2025/05/altiur-zaragoza-0131-scaled.jpg
END:VEVENT
END:VCALENDAR