BEGIN:VCALENDAR
VERSION:2.0
PRODID:-//ALTIUR FORMACIÓN - ECPv6.15.16//NONSGML v1.0//EN
CALSCALE:GREGORIAN
METHOD:PUBLISH
X-WR-CALNAME:ALTIUR FORMACIÓN
X-ORIGINAL-URL:https://www.altiur.com
X-WR-CALDESC:Eventos para ALTIUR FORMACIÓN
REFRESH-INTERVAL;VALUE=DURATION:PT1H
X-Robots-Tag:noindex
X-PUBLISHED-TTL:PT1H
BEGIN:VTIMEZONE
TZID:Europe/Paris
BEGIN:DAYLIGHT
TZOFFSETFROM:+0100
TZOFFSETTO:+0200
TZNAME:CEST
DTSTART:20250330T010000
END:DAYLIGHT
BEGIN:STANDARD
TZOFFSETFROM:+0200
TZOFFSETTO:+0100
TZNAME:CET
DTSTART:20251026T010000
END:STANDARD
BEGIN:DAYLIGHT
TZOFFSETFROM:+0100
TZOFFSETTO:+0200
TZNAME:CEST
DTSTART:20260329T010000
END:DAYLIGHT
BEGIN:STANDARD
TZOFFSETFROM:+0200
TZOFFSETTO:+0100
TZNAME:CET
DTSTART:20261025T010000
END:STANDARD
BEGIN:DAYLIGHT
TZOFFSETFROM:+0100
TZOFFSETTO:+0200
TZNAME:CEST
DTSTART:20270328T010000
END:DAYLIGHT
BEGIN:STANDARD
TZOFFSETFROM:+0200
TZOFFSETTO:+0100
TZNAME:CET
DTSTART:20271031T010000
END:STANDARD
END:VTIMEZONE
BEGIN:VEVENT
DTSTART;TZID=Europe/Paris:20260324T080000
DTEND;TZID=Europe/Paris:20260327T160000
DTSTAMP:20260424T180214
CREATED:20260316T131002Z
LAST-MODIFIED:20260316T131002Z
UID:18122-1774339200-1774627200@www.altiur.com
SUMMARY:Curso GWO BSTR completo
DESCRIPTION:El BSTR (Basic Safety Training Refresher) de GWO (Global Wind Organisation) es el curso de reciclaje obligatorio para profesionales del sector eólico que ya han completado el BST (Basic Safety Training) y necesitan renovar sus certificaciones. \nEste curso permite actualizar conocimientos y habilidades esenciales para seguir trabajando de forma segura en parques eólicos\, tanto onshore como offshore. La formación garantiza el cumplimiento de los estándares internacionales de seguridad establecidos por la GWO. \nEl BSTR incluye los siguientes módulos: \nTrabajo en Altura – Refresher\nManipulación de Cargas – Refresher\nPrimeros Auxilios – Refresher\nExtinción de Incendios – Refresher
URL:https://www.altiur.com/agenda/curso-gwo-bstr-completo-4/
LOCATION:Valladolid
CATEGORIES:GWO BSTR
ATTACH;FMTTYPE=image/jpeg:https://www.altiur.com/wp-content/uploads/2025/08/altiur-valladolid-dos-0012-copia-scaled.jpg
END:VEVENT
BEGIN:VEVENT
DTSTART;TZID=Europe/Paris:20260327T080000
DTEND;TZID=Europe/Paris:20260327T160000
DTSTAMP:20260424T180214
CREATED:20260316T131707Z
LAST-MODIFIED:20260316T131707Z
UID:18126-1774598400-1774627200@www.altiur.com
SUMMARY:Curso AELEC: Trabajos en Espacios Confinados (8 horas)
DESCRIPTION:Formación AELEC dirigida a profesionales que realizan trabajos en el interior de espacios confinados o participan en su desarrollo (planificación\, supervisión y control). A lo largo de 8 horas\, el alumnado aprenderá a identificar de forma previa y exhaustiva los riesgos asociados a estos entornos y los riesgos específicos que pueden generarse durante la actividad\, aplicando medidas de prevención y protección acordes a la normativa vigente. \nEl curso profundiza en el uso correcto de EPIs y protecciones colectivas específicas\, la señalización de espacios confinados y\, especialmente\, el manejo de equipos de medida y monitorización de la atmósfera interior. Incluye actuación ante emergencias\, conocimientos de evacuación y extinción en recintos sin visibilidad y uso de equipos de respiración autónomos (ERA). Además\, se revisan los requisitos legales asociados a estos trabajos\, incluido el nombramiento de Recursos Preventivos\, y se realizan ejercicios prácticos para consolidar los procedimientos de trabajo seguro.
URL:https://www.altiur.com/agenda/curso-aelec-trabajos-en-espacios-confinados-8-horas-3-2/
LOCATION:Valladolid
CATEGORIES:AELEC
ATTACH;FMTTYPE=image/jpeg:https://www.altiur.com/wp-content/uploads/2024/03/telco-espacios-confinados.jpg
END:VEVENT
BEGIN:VEVENT
DTSTART;TZID=Europe/Paris:20260327T080000
DTEND;TZID=Europe/Paris:20260327T160000
DTSTAMP:20260424T180214
CREATED:20260316T132005Z
LAST-MODIFIED:20260316T132005Z
UID:18128-1774598400-1774627200@www.altiur.com
SUMMARY:Curso AELEC: Trabajos en Espacios Confinados (8 horas)
DESCRIPTION:Formación AELEC dirigida a profesionales que realizan trabajos en el interior de espacios confinados o participan en su desarrollo (planificación\, supervisión y control). A lo largo de 8 horas\, el alumnado aprenderá a identificar de forma previa y exhaustiva los riesgos asociados a estos entornos y los riesgos específicos que pueden generarse durante la actividad\, aplicando medidas de prevención y protección acordes a la normativa vigente. \nEl curso profundiza en el uso correcto de EPIs y protecciones colectivas específicas\, la señalización de espacios confinados y\, especialmente\, el manejo de equipos de medida y monitorización de la atmósfera interior. Incluye actuación ante emergencias\, conocimientos de evacuación y extinción en recintos sin visibilidad y uso de equipos de respiración autónomos (ERA). Además\, se revisan los requisitos legales asociados a estos trabajos\, incluido el nombramiento de Recursos Preventivos\, y se realizan ejercicios prácticos para consolidar los procedimientos de trabajo seguro.
URL:https://www.altiur.com/agenda/curso-aelec-trabajos-en-espacios-confinados-8-horas-4/
LOCATION:Zaragoza
CATEGORIES:AELEC
ATTACH;FMTTYPE=image/jpeg:https://www.altiur.com/wp-content/uploads/2024/02/altiur-valladolid-espacios-confinados-scaled.jpeg
END:VEVENT
BEGIN:VEVENT
DTSTART;TZID=Europe/Paris:20260327T163000
DTEND;TZID=Europe/Paris:20260327T170000
DTSTAMP:20260424T180214
CREATED:20260316T131336Z
LAST-MODIFIED:20260316T131336Z
UID:18124-1774629000-1774630800@www.altiur.com
SUMMARY:GWO Lift User (Elevadores)
DESCRIPTION:El curso GWO (Global Wind Organisation) Lift User se enfoca en capacitar a los empleados en el uso seguro y eficiente de los elevadores en el entorno de trabajo de la energía eólica. Este tipo de capacitación es esencial para garantizar que los técnicos puedan manejar adecuadamente el equipo y reducir el riesgo de accidentes. \nObjetivos del Curso\nSeguridad: Asegurar que los técnicos comprendan y apliquen todas las normas de seguridad relacionadas con el uso de elevadores.\nCompetencia: Desarrollar la habilidad para operar diferentes tipos de elevadores de manera segura y eficiente.\nMantenimiento: Capacitar en el mantenimiento básico y la detección de problemas para minimizar el tiempo de inactividad del equipo.\nEmergencias: Preparar a los técnicos para responder adecuadamente en situaciones de emergencia relacionadas con el uso de elevadores. \nRequisitos Previos\nPara inscribirse en el curso GWO Lift User\, los participantes generalmente deben: \nTener conocimientos básicos de seguridad en el trabajo.\nHaber completado otros módulos de formación GWO\, como el curso de Primeros Auxilios o el de Manipulación Manual.
URL:https://www.altiur.com/agenda/gwo-lift-user-elevadores-33/
LOCATION:Valladolid
CATEGORIES:GWO Elevadores
ATTACH;FMTTYPE=image/jpeg:https://www.altiur.com/wp-content/uploads/2024/04/altiur-valladolid-0130-scaled-e1711966192420.jpeg
END:VEVENT
END:VCALENDAR