BEGIN:VCALENDAR
VERSION:2.0
PRODID:-//ALTIUR FORMACIÓN - ECPv6.15.16//NONSGML v1.0//EN
CALSCALE:GREGORIAN
METHOD:PUBLISH
X-ORIGINAL-URL:https://www.altiur.com
X-WR-CALDESC:Eventos para ALTIUR FORMACIÓN
REFRESH-INTERVAL;VALUE=DURATION:PT1H
X-Robots-Tag:noindex
X-PUBLISHED-TTL:PT1H
BEGIN:VTIMEZONE
TZID:Europe/Paris
BEGIN:DAYLIGHT
TZOFFSETFROM:+0100
TZOFFSETTO:+0200
TZNAME:CEST
DTSTART:20230326T010000
END:DAYLIGHT
BEGIN:STANDARD
TZOFFSETFROM:+0200
TZOFFSETTO:+0100
TZNAME:CET
DTSTART:20231029T010000
END:STANDARD
BEGIN:DAYLIGHT
TZOFFSETFROM:+0100
TZOFFSETTO:+0200
TZNAME:CEST
DTSTART:20240331T010000
END:DAYLIGHT
BEGIN:STANDARD
TZOFFSETFROM:+0200
TZOFFSETTO:+0100
TZNAME:CET
DTSTART:20241027T010000
END:STANDARD
BEGIN:DAYLIGHT
TZOFFSETFROM:+0100
TZOFFSETTO:+0200
TZNAME:CEST
DTSTART:20250330T010000
END:DAYLIGHT
BEGIN:STANDARD
TZOFFSETFROM:+0200
TZOFFSETTO:+0100
TZNAME:CET
DTSTART:20251026T010000
END:STANDARD
END:VTIMEZONE
BEGIN:VEVENT
DTSTART;TZID=Europe/Paris:20240808T080000
DTEND;TZID=Europe/Paris:20240808T140000
DTSTAMP:20260420T170154
CREATED:20240805T095111Z
LAST-MODIFIED:20240805T095111Z
UID:16222-1723104000-1723125600@www.altiur.com
SUMMARY:TELCO Riesgo Eléctrico
DESCRIPTION:El curso Telco Riesgo Eléctrico está diseñado para proporcionar a los trabajadores del sector Telco (Telecomunicaciones) el conocimiento y las habilidades necesarias para identificar\, evaluar y gestionar los riesgos eléctricos en su entorno de trabajo. \n \nObjetivos del Curso\n\nComprender los principios básicos de la electricidad.\nIdentificar los riesgos eléctricos específicos en el sector Telco.\nAplicar prácticas seguras para el manejo de equipos eléctricos.\nDesarrollar habilidades para la respuesta a emergencias eléctricas.\n\n¡Esperamos verte pronto en nuestro curso de Riesgo Eléctrico en el Sector Telco!
URL:https://www.altiur.com/agenda/telco-riesgo-electrico-16/
LOCATION:Zaragoza
ATTACH;FMTTYPE=image/jpeg:https://www.altiur.com/wp-content/uploads/2024/02/altiur-valladolid-dos-0143-scaled.jpeg
END:VEVENT
END:VCALENDAR