BEGIN:VCALENDAR
VERSION:2.0
PRODID:-//ALTIUR FORMACIÓN - ECPv6.15.16//NONSGML v1.0//EN
CALSCALE:GREGORIAN
METHOD:PUBLISH
X-ORIGINAL-URL:https://www.altiur.com
X-WR-CALDESC:Eventos para ALTIUR FORMACIÓN
REFRESH-INTERVAL;VALUE=DURATION:PT1H
X-Robots-Tag:noindex
X-PUBLISHED-TTL:PT1H
BEGIN:VTIMEZONE
TZID:Europe/Paris
BEGIN:DAYLIGHT
TZOFFSETFROM:+0100
TZOFFSETTO:+0200
TZNAME:CEST
DTSTART:20240331T010000
END:DAYLIGHT
BEGIN:STANDARD
TZOFFSETFROM:+0200
TZOFFSETTO:+0100
TZNAME:CET
DTSTART:20241027T010000
END:STANDARD
BEGIN:DAYLIGHT
TZOFFSETFROM:+0100
TZOFFSETTO:+0200
TZNAME:CEST
DTSTART:20250330T010000
END:DAYLIGHT
BEGIN:STANDARD
TZOFFSETFROM:+0200
TZOFFSETTO:+0100
TZNAME:CET
DTSTART:20251026T010000
END:STANDARD
BEGIN:DAYLIGHT
TZOFFSETFROM:+0100
TZOFFSETTO:+0200
TZNAME:CEST
DTSTART:20260329T010000
END:DAYLIGHT
BEGIN:STANDARD
TZOFFSETFROM:+0200
TZOFFSETTO:+0100
TZNAME:CET
DTSTART:20261025T010000
END:STANDARD
END:VTIMEZONE
BEGIN:VEVENT
DTSTART;TZID=Europe/Paris:20250505T080000
DTEND;TZID=Europe/Paris:20250508T160000
DTSTAMP:20260421T085340
CREATED:20250512T143813Z
LAST-MODIFIED:20250512T143813Z
UID:17448-1746432000-1746720000@www.altiur.com
SUMMARY:GWO BST completo
DESCRIPTION:Impartimos en nuestras instalaciones de Zaragoza el curso GWO BST inicial completo. Este certificado es necesario para trabajar en el sector eólico.  Es el nivel mínimo en seguridad laboral exigible a cualquier trabajador que desarrolle su actividad en el sector de la energía eólica y desde 2013 esta formación GWO solo puede ser impartida por entidades certificadas como Altiur Formación. \nGWO está compuesta por 4 módulos de formación llamados\, todos ellos regulados en el marco común: \nBST – Trabajos en alturas: 16 horas de formación.\nBST – Primeros Auxilios: 16 horas de formación.\nBST – Manejo manual de cargas: 4 horas de formación.\nBST – Extinción de incendios: 4 horas de formación. \nUna vez superados estos módulos\, tenemos que tener en cuenta\, que solo tienen una validez de 24 meses\, por lo que hay que renovarlos con una formación de reciclaje llamada BSTR-Basic Safety Training Refresh la cual otorga al profesional otro nuevo certificado con validez\, igual que la primera formación\, de 24 meses.
URL:https://www.altiur.com/agenda/gwo-bst-completo-17/
LOCATION:Zaragoza
ATTACH;FMTTYPE=image/jpeg:https://www.altiur.com/wp-content/uploads/2024/04/altiur-zaragoza-0035-scaled.jpeg
END:VEVENT
BEGIN:VEVENT
DTSTART;TZID=Europe/Paris:20250506T080000
DTEND;TZID=Europe/Paris:20250509T160000
DTSTAMP:20260421T085341
CREATED:20250512T144058Z
LAST-MODIFIED:20250602T150259Z
UID:17450-1746518400-1746806400@www.altiur.com
SUMMARY:GWO BST completo
DESCRIPTION:Impartimos en nuestras instalaciones de Valladolid el curso GWO BST inicial completo. Este certificado es necesario para trabajar en el sector eólico.  Es el nivel mínimo en seguridad laboral exigible a cualquier trabajador que desarrolle su actividad en el sector de la energía eólica y desde 2013 esta formación GWO solo puede ser impartida por entidades certificadas como Altiur Formación. \nGWO está compuesta por 4 módulos de formación llamados\, todos ellos regulados en el marco común: \nBST – Trabajos en alturas: 16 horas de formación.\nBST – Primeros Auxilios: 16 horas de formación.\nBST – Manejo manual de cargas: 4 horas de formación.\nBST – Extinción de incendios: 4 horas de formación. \nUna vez superados estos módulos\, tenemos que tener en cuenta\, que solo tienen una validez de 24 meses\, por lo que hay que renovarlos con una formación de reciclaje llamada BSTR-Basic Safety Training Refresh la cual otorga al profesional otro nuevo certificado con validez\, igual que la primera formación\, de 24 meses.
URL:https://www.altiur.com/agenda/gwo-bst-completo-18/
LOCATION:Valladolid
ATTACH;FMTTYPE=image/jpeg:https://www.altiur.com/wp-content/uploads/2024/03/altiur-valladolid-0056-scaled-e1711453462724.jpeg
END:VEVENT
BEGIN:VEVENT
DTSTART;TZID=Europe/Paris:20250519T080000
DTEND;TZID=Europe/Paris:20250521T160000
DTSTAMP:20260421T085341
CREATED:20250512T150803Z
LAST-MODIFIED:20250512T150803Z
UID:17456-1747641600-1747843200@www.altiur.com
SUMMARY:GWO BSTR completo
DESCRIPTION:GWO (Global Wind Organization) es una federación formada por las más importantes compañías del sector de la energía eólica a nivel mundial. Su objetivo principal es formar y capacitar a profesionales cualificados\, relacionados con el sector eólico mediante las normas comunes en la materia de seguridad. Entre las empresas líderes mundiales\, que conforman esta federación encontramos\, entre otras\, a EON\, Vestas\, Grupo Acciona o Gamesa. \nUna vez implementado este marco común de formación\, la Asociación Europea de Energía Eólica (WindEurope) lo reconoció como el nivel mínimo exigible a cualquier trabajador que desarrolle su actividad en el sector de la energía eólica en materia de prevención y seguridad laboral y desde 2013 esta formación GWO solo puede ser impartida por entidades certificadas como Altiur Formación. \nEl certificado GWO está formado por cuatro módulos que hay que cursar para obtener el título BST (Basic Safety Training Standard). Cada módulo posee unos objetivo y un tiempo de formación que os detallamos bajo estas líneas. \nLos cuatro módulos son: \nBST – Trabajos en alturas: 16 horas de formación. \nBST – Primeros Auxilios: 16 horas de formación. \nBST – Manejo manual de cargas: 4 horas de formación. \nBST – Extinción de incendios: 4 horas de formación. \nUna vez superados estos módulos\, tenemos que tener en cuenta\, que solo tienen una validez de 24 meses\, por lo que hay que renovarlos con una formación de reciclaje llamada la cuál otorga al profesional otro nuevo certificado con validez\, igual que la primera formación.
URL:https://www.altiur.com/agenda/gwo-bstr-completo-23/
LOCATION:Valladolid
ATTACH;FMTTYPE=image/jpeg:https://www.altiur.com/wp-content/uploads/2024/03/altiur-valladolid-0056-scaled-e1711453462724.jpeg
END:VEVENT
END:VCALENDAR