BEGIN:VCALENDAR
VERSION:2.0
PRODID:-//ALTIUR FORMACIÓN - ECPv6.15.16//NONSGML v1.0//EN
CALSCALE:GREGORIAN
METHOD:PUBLISH
X-WR-CALNAME:ALTIUR FORMACIÓN
X-ORIGINAL-URL:https://www.altiur.com
X-WR-CALDESC:Eventos para ALTIUR FORMACIÓN
REFRESH-INTERVAL;VALUE=DURATION:PT1H
X-Robots-Tag:noindex
X-PUBLISHED-TTL:PT1H
BEGIN:VTIMEZONE
TZID:Europe/Paris
BEGIN:DAYLIGHT
TZOFFSETFROM:+0100
TZOFFSETTO:+0200
TZNAME:CEST
DTSTART:20240331T010000
END:DAYLIGHT
BEGIN:STANDARD
TZOFFSETFROM:+0200
TZOFFSETTO:+0100
TZNAME:CET
DTSTART:20241027T010000
END:STANDARD
BEGIN:DAYLIGHT
TZOFFSETFROM:+0100
TZOFFSETTO:+0200
TZNAME:CEST
DTSTART:20250330T010000
END:DAYLIGHT
BEGIN:STANDARD
TZOFFSETFROM:+0200
TZOFFSETTO:+0100
TZNAME:CET
DTSTART:20251026T010000
END:STANDARD
BEGIN:DAYLIGHT
TZOFFSETFROM:+0100
TZOFFSETTO:+0200
TZNAME:CEST
DTSTART:20260329T010000
END:DAYLIGHT
BEGIN:STANDARD
TZOFFSETFROM:+0200
TZOFFSETTO:+0100
TZNAME:CET
DTSTART:20261025T010000
END:STANDARD
END:VTIMEZONE
BEGIN:VEVENT
DTSTART;TZID=Europe/Paris:20250514T080000
DTEND;TZID=Europe/Paris:20250514T140000
DTSTAMP:20260422T025848
CREATED:20250512T152741Z
LAST-MODIFIED:20250617T075159Z
UID:17462-1747209600-1747231200@www.altiur.com
SUMMARY:TELCO Riesgo Eléctrico
DESCRIPTION:El curso TELCO Riesgo Eléctrico es una formación especializada dirigida a trabajadores del sector de las telecomunicaciones que están expuestos a situaciones en las que puedan entrar en contacto con instalaciones o equipos eléctricos. Esta formación tiene como objetivo principal prevenir accidentes eléctricos\, dotando a los profesionales de los conocimientos y habilidades necesarios para identificar\, evaluar y controlar los riesgos eléctricos presentes en su entorno de trabajo. \nForma parte del estándar formativo TELCO\, establecido para garantizar un nivel mínimo de seguridad y salud laboral en el sector. Es obligatorio para quienes realicen tareas próximas o en contacto con redes eléctricas\, tanto en baja como en media tensión. \nContenidos habituales del curso:\n\n\nConceptos básicos de electricidad. \n\n\nTipos de riesgos eléctricos. \n\n\nNormativa y legislación aplicable. \n\n\nMétodos de prevención y buenas prácticas. \n\n\nEquipos de protección individual (EPI) específicos. \n\n\nProcedimientos de actuación en caso de emergencia eléctrica.
URL:https://www.altiur.com/agenda/telco-riesgo-electrico-18/
LOCATION:Zaragoza
ATTACH;FMTTYPE=image/jpeg:https://www.altiur.com/wp-content/uploads/2024/02/altiur-valladolid-telco-riesgo-electrico-scaled.jpeg
END:VEVENT
END:VCALENDAR