BEGIN:VCALENDAR
VERSION:2.0
PRODID:-//ALTIUR FORMACIÓN - ECPv6.15.16//NONSGML v1.0//EN
CALSCALE:GREGORIAN
METHOD:PUBLISH
X-WR-CALNAME:ALTIUR FORMACIÓN
X-ORIGINAL-URL:https://www.altiur.com
X-WR-CALDESC:Eventos para ALTIUR FORMACIÓN
REFRESH-INTERVAL;VALUE=DURATION:PT1H
X-Robots-Tag:noindex
X-PUBLISHED-TTL:PT1H
BEGIN:VTIMEZONE
TZID:Europe/Paris
BEGIN:DAYLIGHT
TZOFFSETFROM:+0100
TZOFFSETTO:+0200
TZNAME:CEST
DTSTART:20240331T010000
END:DAYLIGHT
BEGIN:STANDARD
TZOFFSETFROM:+0200
TZOFFSETTO:+0100
TZNAME:CET
DTSTART:20241027T010000
END:STANDARD
BEGIN:DAYLIGHT
TZOFFSETFROM:+0100
TZOFFSETTO:+0200
TZNAME:CEST
DTSTART:20250330T010000
END:DAYLIGHT
BEGIN:STANDARD
TZOFFSETFROM:+0200
TZOFFSETTO:+0100
TZNAME:CET
DTSTART:20251026T010000
END:STANDARD
BEGIN:DAYLIGHT
TZOFFSETFROM:+0100
TZOFFSETTO:+0200
TZNAME:CEST
DTSTART:20260329T010000
END:DAYLIGHT
BEGIN:STANDARD
TZOFFSETFROM:+0200
TZOFFSETTO:+0100
TZNAME:CET
DTSTART:20261025T010000
END:STANDARD
END:VTIMEZONE
BEGIN:VEVENT
DTSTART;TZID=Europe/Paris:20251125T080000
DTEND;TZID=Europe/Paris:20251127T160000
DTSTAMP:20260421T140530
CREATED:20251112T100100Z
LAST-MODIFIED:20251112T100100Z
UID:17785-1764057600-1764259200@www.altiur.com
SUMMARY:Curso TELCO III Trabajos en Altura
DESCRIPTION:El curso TELCO III Trabajos en Altura de Altiur Formación está orientado a profesionales del sector de las telecomunicaciones que realizan trabajos verticales con técnicas de acceso y posicionamiento mediante cuerdas\, cumpliendo los requisitos del Real Decreto 2177/2004 y del estándar TELCO. \nEste programa forma parte del itinerario TELCO\, que define los requisitos de formación en prevención de riesgos laborales exigidos a los trabajadores del sector desde el 1 de julio de 2018\, garantizando su capacitación y seguridad en altura. \n🔹 Objetivos del curso \nAdquirir los conocimientos técnicos y prácticos necesarios para realizar trabajos en altura mediante cuerdas.\nAprender el uso\, inspección y mantenimiento de los equipos de protección individual (EPI).\nAplicar correctamente los procedimientos de rescate y evacuación en altura.\nCumplir con los requisitos formativos del estándar TELCO III. \n🔹 ¿A quién va dirigido?\nA personal del sector de las telecomunicaciones (TELCO) que vaya a realizar trabajos verticales de manera habitual y que ya disponga del certificado TELCO II Trabajos en Altura. \n🔹 Certificación\nAl finalizar la formación\, los participantes recibirán el certificado oficial TELCO III Trabajos en Altura\, emitido por Altiur Formación\, que acredita las competencias necesarias para desempeñar tareas de acceso y posicionamiento mediante cuerdas con total seguridad. \n🔹 ¿Por qué elegir Altiur Formación?\nEn Altiur Formación somos especialistas en formación en altura y rescate industrial\, con instructores certificados y simuladores homologados que reproducen condiciones reales de trabajo. Ofrecemos una formación práctica\, segura y adaptada a la realidad laboral del sector TELCO. \n📞 Más información: comercial@altiur.com\n🌐 www.altiurformacion.com
URL:https://www.altiur.com/agenda/curso-telco-iii-trabajos-en-altura/
LOCATION:Valladolid
CATEGORIES:TELCO
ATTACH;FMTTYPE=image/jpeg:https://www.altiur.com/wp-content/uploads/2024/03/telco-III-altiur-formacion-e1711450949609.jpeg
END:VEVENT
END:VCALENDAR