BEGIN:VCALENDAR
VERSION:2.0
PRODID:-//ALTIUR FORMACIÓN - ECPv6.15.16//NONSGML v1.0//EN
CALSCALE:GREGORIAN
METHOD:PUBLISH
X-WR-CALNAME:ALTIUR FORMACIÓN
X-ORIGINAL-URL:https://www.altiur.com
X-WR-CALDESC:Eventos para ALTIUR FORMACIÓN
REFRESH-INTERVAL;VALUE=DURATION:PT1H
X-Robots-Tag:noindex
X-PUBLISHED-TTL:PT1H
BEGIN:VTIMEZONE
TZID:Europe/Paris
BEGIN:DAYLIGHT
TZOFFSETFROM:+0100
TZOFFSETTO:+0200
TZNAME:CEST
DTSTART:20250330T010000
END:DAYLIGHT
BEGIN:STANDARD
TZOFFSETFROM:+0200
TZOFFSETTO:+0100
TZNAME:CET
DTSTART:20251026T010000
END:STANDARD
BEGIN:DAYLIGHT
TZOFFSETFROM:+0100
TZOFFSETTO:+0200
TZNAME:CEST
DTSTART:20260329T010000
END:DAYLIGHT
BEGIN:STANDARD
TZOFFSETFROM:+0200
TZOFFSETTO:+0100
TZNAME:CET
DTSTART:20261025T010000
END:STANDARD
BEGIN:DAYLIGHT
TZOFFSETFROM:+0100
TZOFFSETTO:+0200
TZNAME:CEST
DTSTART:20270328T010000
END:DAYLIGHT
BEGIN:STANDARD
TZOFFSETFROM:+0200
TZOFFSETTO:+0100
TZNAME:CET
DTSTART:20271031T010000
END:STANDARD
END:VTIMEZONE
BEGIN:VEVENT
DTSTART;TZID=Europe/Paris:20260415T120000
DTEND;TZID=Europe/Paris:20260415T163000
DTSTAMP:20260421T053259
CREATED:20260325T100427Z
LAST-MODIFIED:20260325T100427Z
UID:16549-1776254400-1776270600@www.altiur.com
SUMMARY:GWO Elevadores (Lift User)
DESCRIPTION:El curso GWO (Global Wind Organisation) Lift User se enfoca en capacitar a los empleados en el uso seguro y eficiente de los elevadores en el entorno de trabajo de la energía eólica. Este tipo de capacitación es esencial para garantizar que los técnicos puedan manejar adecuadamente el equipo y reducir el riesgo de accidentes. \nObjetivos del Curso\nSeguridad: Asegurar que los técnicos comprendan y apliquen todas las normas de seguridad relacionadas con el uso de elevadores.\nCompetencia: Desarrollar la habilidad para operar diferentes tipos de elevadores de manera segura y eficiente.\nMantenimiento: Capacitar en el mantenimiento básico y la detección de problemas para minimizar el tiempo de inactividad del equipo.\nEmergencias: Preparar a los técnicos para responder adecuadamente en situaciones de emergencia relacionadas con el uso de elevadores. \nRequisitos Previos\nPara inscribirse en el curso GWO Lift User\, los participantes generalmente deben: \n\nTener conocimientos básicos de seguridad en el trabajo.\nHaber completado otros módulos de formación GWO\, como el curso de Primeros Auxilios o el de Manipulación Manual.
URL:https://www.altiur.com/agenda/gwo-elevadores-lift-user/
LOCATION:Valladolid
CATEGORIES:GWO Elevadores
ATTACH;FMTTYPE=image/jpeg:https://www.altiur.com/wp-content/uploads/2024/04/altiur-valladolid-0130-scaled-e1711966192420.jpeg
END:VEVENT
END:VCALENDAR