BEGIN:VCALENDAR
VERSION:2.0
PRODID:-//ALTIUR FORMACIÓN - ECPv6.15.16//NONSGML v1.0//EN
CALSCALE:GREGORIAN
METHOD:PUBLISH
X-WR-CALNAME:ALTIUR FORMACIÓN
X-ORIGINAL-URL:https://www.altiur.com
X-WR-CALDESC:Eventos para ALTIUR FORMACIÓN
REFRESH-INTERVAL;VALUE=DURATION:PT1H
X-Robots-Tag:noindex
X-PUBLISHED-TTL:PT1H
BEGIN:VTIMEZONE
TZID:Europe/Paris
BEGIN:DAYLIGHT
TZOFFSETFROM:+0100
TZOFFSETTO:+0200
TZNAME:CEST
DTSTART:20250330T010000
END:DAYLIGHT
BEGIN:STANDARD
TZOFFSETFROM:+0200
TZOFFSETTO:+0100
TZNAME:CET
DTSTART:20251026T010000
END:STANDARD
BEGIN:DAYLIGHT
TZOFFSETFROM:+0100
TZOFFSETTO:+0200
TZNAME:CEST
DTSTART:20260329T010000
END:DAYLIGHT
BEGIN:STANDARD
TZOFFSETFROM:+0200
TZOFFSETTO:+0100
TZNAME:CET
DTSTART:20261025T010000
END:STANDARD
BEGIN:DAYLIGHT
TZOFFSETFROM:+0100
TZOFFSETTO:+0200
TZNAME:CEST
DTSTART:20270328T010000
END:DAYLIGHT
BEGIN:STANDARD
TZOFFSETFROM:+0200
TZOFFSETTO:+0100
TZNAME:CET
DTSTART:20271031T010000
END:STANDARD
END:VTIMEZONE
BEGIN:VEVENT
DTSTART;TZID=Europe/Paris:20260309T080000
DTEND;TZID=Europe/Paris:20260312T160000
DTSTAMP:20260425T131533
CREATED:20260302T124059Z
LAST-MODIFIED:20260302T124059Z
UID:18087-1773043200-1773331200@www.altiur.com
SUMMARY:GWO BST completo
DESCRIPTION:Impartimos en nuestras instalaciones de Valladolid el curso GWO BST inicial completo. Este certificado es necesario para trabajar en el sector eólico.  Es el nivel mínimo en seguridad laboral exigible a cualquier trabajador que desarrolle su actividad en el sector de la energía eólica y desde 2013 esta formación GWO solo puede ser impartida por entidades certificadas como Altiur Formación. \nGWO está compuesta por 4 módulos de formación llamados\, todos ellos regulados en el marco común: \nBST – Trabajos en alturas: 16 horas de formación.\nBST – Primeros Auxilios: 16 horas de formación.\nBST – Manejo manual de cargas: 4 horas de formación.\nBST – Extinción de incendios: 4 horas de formación. \nUna vez superados estos módulos\, tenemos que tener en cuenta\, que solo tienen una validez de 24 meses\, por lo que hay que renovarlos con una formación de reciclaje llamada BSTR-Basic Safety Training Refresh la cual otorga al profesional otro nuevo certificado con validez\, igual que la primera formación\, de 24 meses.
URL:https://www.altiur.com/agenda/gwo-bst-completo-25/
LOCATION:Valladolid
CATEGORIES:GWO BST completo
ATTACH;FMTTYPE=image/jpeg:https://www.altiur.com/wp-content/uploads/2024/03/telco-I-alturas.jpeg
END:VEVENT
BEGIN:VEVENT
DTSTART;TZID=Europe/Paris:20260316T080000
DTEND;TZID=Europe/Paris:20260320T160000
DTSTAMP:20260425T131533
CREATED:20260302T123659Z
LAST-MODIFIED:20260302T124041Z
UID:18085-1773648000-1774022400@www.altiur.com
SUMMARY:GWO BST completo
DESCRIPTION:Impartimos en nuestras instalaciones de Zaragoza el curso GWO BST inicial completo. Este certificado es necesario para trabajar en el sector eólico.  Es el nivel mínimo en seguridad laboral exigible a cualquier trabajador que desarrolle su actividad en el sector de la energía eólica y desde 2013 esta formación GWO solo puede ser impartida por entidades certificadas como Altiur Formación. \nGWO está compuesta por 4 módulos de formación llamados\, todos ellos regulados en el marco común: \nBST – Trabajos en alturas: 16 horas de formación.\nBST – Primeros Auxilios: 16 horas de formación.\nBST – Manejo manual de cargas: 4 horas de formación.\nBST – Extinción de incendios: 4 horas de formación. \nUna vez superados estos módulos\, tenemos que tener en cuenta\, que solo tienen una validez de 24 meses\, por lo que hay que renovarlos con una formación de reciclaje llamada BSTR-Basic Safety Training Refresh la cual otorga al profesional otro nuevo certificado con validez\, igual que la primera formación\, de 24 meses.
URL:https://www.altiur.com/agenda/gwo-bst-completo-24/
LOCATION:Zaragoza
CATEGORIES:GWO BST completo
ATTACH;FMTTYPE=image/jpeg:https://www.altiur.com/wp-content/uploads/2025/07/altiur-valladolid-0065-scaled.jpg
END:VEVENT
BEGIN:VEVENT
DTSTART;TZID=Europe/Paris:20260330T080000
DTEND;TZID=Europe/Paris:20260330T120000
DTSTAMP:20260425T131533
CREATED:20260331T074530Z
LAST-MODIFIED:20260331T074530Z
UID:18170-1774857600-1774872000@www.altiur.com
SUMMARY:Curso Wind EscapeTTor: evacuación y rescate en trabajos en altura
DESCRIPTION:En Altiur Formación impartimos formación especializada en evacuación y rescate en trabajos en altura con el sistema Wind EscapeTTor\, una capacitación especialmente orientada a profesionales que desarrollan su actividad en aerogeneradores y otras estructuras eólicas. \nComo centro homologado\, ofrecemos un curso diseñado para reforzar la seguridad y la capacidad de respuesta ante situaciones de emergencia\, proporcionando a los alumnos los conocimientos teóricos y prácticos necesarios para utilizar el equipo de forma correcta\, segura y eficaz. \nEsta formación está dirigida a técnicos de mantenimiento\, instaladores y personal que trabaje en altura en el sector eólico y necesite actuar con rapidez y precisión en maniobras de evacuación o rescate. \nEl curso tiene una duración total de 4 horas\, distribuidas en 1 hora de teoría y 3 horas de prácticas. \nDurante la parte teórica se abordan la normativa aplicable\, los componentes y características del sistema Wind EscapeTTor\, así como la inspección y el mantenimiento básico que debe realizar el usuario. \nEn la parte práctica\, los participantes aprenden y entrenan técnicas de descenso en rampa y vertical\, el funcionamiento del sistema de auto bloqueo y frenado antipánico\, maniobras de liberación en resaltes\, rescate de personas accidentadas en suspensión y descenso guiado de accidentados. \nEl objetivo de esta formación es capacitar a los alumnos para realizar maniobras de evacuación y rescate de forma segura y eficiente\, cumpliendo con la normativa vigente y con los estándares de seguridad del sector eólico.
URL:https://www.altiur.com/agenda/curso-wind-escapettor-evacuacion-y-rescate-en-trabajos-en-altura/
LOCATION:Zaragoza
CATEGORIES:SEGURIDAD INDUSTRIAL
ATTACH;FMTTYPE=image/jpeg:https://www.altiur.com/wp-content/uploads/2026/03/emergencia-600x400-1.jpg
END:VEVENT
END:VCALENDAR