BEGIN:VCALENDAR
VERSION:2.0
PRODID:-//ALTIUR FORMACIÓN - ECPv6.15.16//NONSGML v1.0//EN
CALSCALE:GREGORIAN
METHOD:PUBLISH
X-WR-CALNAME:ALTIUR FORMACIÓN
X-ORIGINAL-URL:https://www.altiur.com
X-WR-CALDESC:Eventos para ALTIUR FORMACIÓN
REFRESH-INTERVAL;VALUE=DURATION:PT1H
X-Robots-Tag:noindex
X-PUBLISHED-TTL:PT1H
BEGIN:VTIMEZONE
TZID:Europe/Paris
BEGIN:DAYLIGHT
TZOFFSETFROM:+0100
TZOFFSETTO:+0200
TZNAME:CEST
DTSTART:20230326T010000
END:DAYLIGHT
BEGIN:STANDARD
TZOFFSETFROM:+0200
TZOFFSETTO:+0100
TZNAME:CET
DTSTART:20231029T010000
END:STANDARD
BEGIN:DAYLIGHT
TZOFFSETFROM:+0100
TZOFFSETTO:+0200
TZNAME:CEST
DTSTART:20240331T010000
END:DAYLIGHT
BEGIN:STANDARD
TZOFFSETFROM:+0200
TZOFFSETTO:+0100
TZNAME:CET
DTSTART:20241027T010000
END:STANDARD
BEGIN:DAYLIGHT
TZOFFSETFROM:+0100
TZOFFSETTO:+0200
TZNAME:CEST
DTSTART:20250330T010000
END:DAYLIGHT
BEGIN:STANDARD
TZOFFSETFROM:+0200
TZOFFSETTO:+0100
TZNAME:CET
DTSTART:20251026T010000
END:STANDARD
END:VTIMEZONE
BEGIN:VEVENT
DTSTART;TZID=Europe/Paris:20240725T090000
DTEND;TZID=Europe/Paris:20240725T150000
DTSTAMP:20260425T020403
CREATED:20240715T082059Z
LAST-MODIFIED:20240715T082059Z
UID:16041-1721898000-1721919600@www.altiur.com
SUMMARY:TELCO Riesgo Eléctrico
DESCRIPTION:El estándar formativo TELCO RIESGO ELÉCTRICO persigue como objetivo proporcionar los conocimientos requeridos y estar capacitado para poder prestar servicios como trabajador «autorizado» respecto a riesgo eléctrico. \nEstá dirigido a trabajadores cuya actividad no eléctrica se desarrolle en proximidad de instalaciones eléctricas con partes accesibles en tensión o que realice tareas especificadas para trabajadores autorizados.
URL:https://www.altiur.com/agenda/telco-riesgo-electrico-14/
LOCATION:Zaragoza
ATTACH;FMTTYPE=image/jpeg:https://www.altiur.com/wp-content/uploads/2024/02/altiur-valladolid-telco-riesgo-electrico-scaled.jpeg
END:VEVENT
END:VCALENDAR