BEGIN:VCALENDAR
VERSION:2.0
PRODID:-//ALTIUR FORMACIÓN - ECPv6.15.16//NONSGML v1.0//EN
CALSCALE:GREGORIAN
METHOD:PUBLISH
X-WR-CALNAME:ALTIUR FORMACIÓN
X-ORIGINAL-URL:https://www.altiur.com
X-WR-CALDESC:Eventos para ALTIUR FORMACIÓN
REFRESH-INTERVAL;VALUE=DURATION:PT1H
X-Robots-Tag:noindex
X-PUBLISHED-TTL:PT1H
BEGIN:VTIMEZONE
TZID:Europe/Paris
BEGIN:DAYLIGHT
TZOFFSETFROM:+0100
TZOFFSETTO:+0200
TZNAME:CEST
DTSTART:20230326T010000
END:DAYLIGHT
BEGIN:STANDARD
TZOFFSETFROM:+0200
TZOFFSETTO:+0100
TZNAME:CET
DTSTART:20231029T010000
END:STANDARD
BEGIN:DAYLIGHT
TZOFFSETFROM:+0100
TZOFFSETTO:+0200
TZNAME:CEST
DTSTART:20240331T010000
END:DAYLIGHT
BEGIN:STANDARD
TZOFFSETFROM:+0200
TZOFFSETTO:+0100
TZNAME:CET
DTSTART:20241027T010000
END:STANDARD
BEGIN:DAYLIGHT
TZOFFSETFROM:+0100
TZOFFSETTO:+0200
TZNAME:CEST
DTSTART:20250330T010000
END:DAYLIGHT
BEGIN:STANDARD
TZOFFSETFROM:+0200
TZOFFSETTO:+0100
TZNAME:CET
DTSTART:20251026T010000
END:STANDARD
END:VTIMEZONE
BEGIN:VEVENT
DTSTART;TZID=Europe/Paris:20241104T080000
DTEND;TZID=Europe/Paris:20241104T140000
DTSTAMP:20260424T190436
CREATED:20241104T122619Z
LAST-MODIFIED:20241104T123826Z
UID:16818-1730707200-1730728800@www.altiur.com
SUMMARY:TELCO Riesgo Eléctrico
DESCRIPTION:El curso Telco Riesgo Eléctrico está diseñado para proporcionar a los trabajadores del sector Telco (Telecomunicaciones) el conocimiento y las habilidades necesarias para identificar\, evaluar y gestionar los riesgos eléctricos en su entorno de trabajo. \n \nObjetivos del Curso\nComprender los principios básicos de la electricidad.\nIdentificar los riesgos eléctricos específicos en el sector Telco.\nAplicar prácticas seguras para el manejo de equipos eléctricos.\nDesarrollar habilidades para la respuesta a emergencias eléctricas. \nFórmate con Altiur.
URL:https://www.altiur.com/agenda/telco-riesgo-electrico-17/
LOCATION:Valladolid
ATTACH;FMTTYPE=image/jpeg:https://www.altiur.com/wp-content/uploads/2024/02/altiur-valladolid-dos-0143-scaled.jpeg
END:VEVENT
END:VCALENDAR