BEGIN:VCALENDAR
VERSION:2.0
PRODID:-//ALTIUR FORMACIÓN - ECPv6.15.16//NONSGML v1.0//EN
CALSCALE:GREGORIAN
METHOD:PUBLISH
X-WR-CALNAME:ALTIUR FORMACIÓN
X-ORIGINAL-URL:https://www.altiur.com
X-WR-CALDESC:Eventos para ALTIUR FORMACIÓN
REFRESH-INTERVAL;VALUE=DURATION:PT1H
X-Robots-Tag:noindex
X-PUBLISHED-TTL:PT1H
BEGIN:VTIMEZONE
TZID:Europe/Paris
BEGIN:DAYLIGHT
TZOFFSETFROM:+0100
TZOFFSETTO:+0200
TZNAME:CEST
DTSTART:20250330T010000
END:DAYLIGHT
BEGIN:STANDARD
TZOFFSETFROM:+0200
TZOFFSETTO:+0100
TZNAME:CET
DTSTART:20251026T010000
END:STANDARD
BEGIN:DAYLIGHT
TZOFFSETFROM:+0100
TZOFFSETTO:+0200
TZNAME:CEST
DTSTART:20260329T010000
END:DAYLIGHT
BEGIN:STANDARD
TZOFFSETFROM:+0200
TZOFFSETTO:+0100
TZNAME:CET
DTSTART:20261025T010000
END:STANDARD
BEGIN:DAYLIGHT
TZOFFSETFROM:+0100
TZOFFSETTO:+0200
TZNAME:CEST
DTSTART:20270328T010000
END:DAYLIGHT
BEGIN:STANDARD
TZOFFSETFROM:+0200
TZOFFSETTO:+0100
TZNAME:CET
DTSTART:20271031T010000
END:STANDARD
END:VTIMEZONE
BEGIN:VEVENT
DTSTART;TZID=Europe/Paris:20260420T080000
DTEND;TZID=Europe/Paris:20260422T160000
DTSTAMP:20260421T071148
CREATED:20260420T121144Z
LAST-MODIFIED:20260420T121144Z
UID:18221-1776672000-1776873600@www.altiur.com
SUMMARY:Curso GWO BSTR completo
DESCRIPTION:El BSTR (Basic Safety Training Refresher) de GWO (Global Wind Organisation) es el curso de reciclaje obligatorio para profesionales del sector eólico que ya han completado el BST (Basic Safety Training) y necesitan renovar sus certificaciones. \nEste curso permite actualizar conocimientos y habilidades esenciales para seguir trabajando de forma segura en parques eólicos\, tanto onshore como offshore. La formación garantiza el cumplimiento de los estándares internacionales de seguridad establecidos por la GWO. \nEl BSTR incluye los siguientes módulos: \nTrabajo en Altura – Refresher\nManipulación de Cargas – Refresher\nPrimeros Auxilios – Refresher\nExtinción de Incendios – Refresher
URL:https://www.altiur.com/agenda/curso-gwo-bstr-completo-7/
LOCATION:Valladolid
CATEGORIES:GWO BSTR
ATTACH;FMTTYPE=image/jpeg:https://www.altiur.com/wp-content/uploads/2025/05/altiur-zaragoza-0131-scaled.jpg
END:VEVENT
BEGIN:VEVENT
DTSTART;TZID=Europe/Paris:20260424T080000
DTEND;TZID=Europe/Paris:20260424T160000
DTSTAMP:20260421T071148
CREATED:20260420T120922Z
LAST-MODIFIED:20260420T120922Z
UID:18219-1777017600-1777046400@www.altiur.com
SUMMARY:Curso AELEC de Riesgo Eléctrico B1 y b2 (reciclaje)
DESCRIPTION:En Altiur Formación impartimos estos cursos de reciclaje dirigidos a trabajadores que ya disponen de formación previa y realizan actividades no eléctricas en entornos con presencia de instalaciones de Baja\, Media o Alta Tensión. \nLos cursos de reciclaje B1 (5 horas) y B2 (8 horas) están diseñados para actualizar conocimientos\, reforzar la identificación de riesgos y garantizar la correcta aplicación de medidas preventivas conforme al RD 614/2001\, incluyendo el repaso de las Cinco Reglas de Oro. \nEl Curso de Reciclaje B1 AELEC permite consolidar los conocimientos esenciales para trabajos en instalaciones de Baja Tensión\, mientras que el Curso de Reciclaje B2 AELEC amplía la actualización a entornos de Media y Alta Tensión\, incorporando recordatorio de procedimientos y prácticas demostrativas. \nAmbos programas están orientados a reforzar la conciencia del riesgo eléctrico\, actualizar buenas prácticas y asegurar que los trabajadores continúen desarrollando su actividad en condiciones óptimas de seguridad. \n👉 Ya puedes consultar toda la información\, descargar el programa en PDF y conocer la opinión de nuestros alumnos en nuestra web de Altiur Formación.
URL:https://www.altiur.com/agenda/curso-aelec-de-riesgo-electrico-b1-y-b2-reciclaje-3/
LOCATION:Valladolid
CATEGORIES:AELEC
ATTACH;FMTTYPE=image/jpeg:https://www.altiur.com/wp-content/uploads/2025/09/altiur-valladolid-dos-0143-copia-scaled.jpg
END:VEVENT
END:VCALENDAR